BEGIN:VCALENDAR
VERSION:2.0
PRODID:spatie/icalendar-generator
DESCRIPTION:Events from Think Outside the Box
X-WR-CALDESC:Events from Think Outside the Box
REFRESH-INTERVAL;VALUE=DURATION:PT1440M
X-PUBLISHED-TTL:PT1440M
BEGIN:VTIMEZONE
TZID:Etc/GMT+0
BEGIN:STANDARD
DTSTART:20220515T130000Z
TZOFFSETFROM:+0000
TZOFFSETTO:+0000
END:STANDARD
END:VTIMEZONE
BEGIN:VTIMEZONE
TZID:UTC
BEGIN:STANDARD
DTSTART:20250726T082417Z
TZOFFSETFROM:+0000
TZOFFSETTO:+0000
END:STANDARD
END:VTIMEZONE
BEGIN:VEVENT
UID:64-34
DTSTAMP:20260422T082417Z
SUMMARY:Parent &amp;amp\; Toddler - Focus: Physical (fine motor skills)
LOCATION:
ORGANIZER;CN=GOAL:MAILTO:yasmin@go-woman.com
DTSTART;TZID=Etc/GMT+0:20230209T130000
DTEND;TZID=Etc/GMT+0:20230209T150000
X-ALT-DESC;FMTTYPE=TEXT/HTML:
CATEGORIES:Early Years
URL;VALUE=URI:https://www.gwacic.com/?mc-events=parent-toddler-focus-physic
 al-fine-motor-skills-6
METHOD:PUBLISH
END:VEVENT
END:VCALENDAR